BEGIN:VCALENDAR
VERSION:2.0
PRODID:-//TylerSpillman.org - ECPv5.8.1//NONSGML v1.0//EN
CALSCALE:GREGORIAN
METHOD:PUBLISH
X-WR-CALNAME:TylerSpillman.org
X-ORIGINAL-URL:https://tylerspillman.org
X-WR-CALDESC:Events for TylerSpillman.org
BEGIN:VTIMEZONE
TZID:America/Chicago
BEGIN:DAYLIGHT
TZOFFSETFROM:-0600
TZOFFSETTO:-0500
TZNAME:CDT
DTSTART:20190310T080000
END:DAYLIGHT
BEGIN:STANDARD
TZOFFSETFROM:-0500
TZOFFSETTO:-0600
TZNAME:CST
DTSTART:20191103T070000
END:STANDARD
BEGIN:DAYLIGHT
TZOFFSETFROM:-0600
TZOFFSETTO:-0500
TZNAME:CDT
DTSTART:20200308T080000
END:DAYLIGHT
BEGIN:STANDARD
TZOFFSETFROM:-0500
TZOFFSETTO:-0600
TZNAME:CST
DTSTART:20201101T070000
END:STANDARD
BEGIN:DAYLIGHT
TZOFFSETFROM:-0600
TZOFFSETTO:-0500
TZNAME:CDT
DTSTART:20210314T080000
END:DAYLIGHT
BEGIN:STANDARD
TZOFFSETFROM:-0500
TZOFFSETTO:-0600
TZNAME:CST
DTSTART:20211107T070000
END:STANDARD
END:VTIMEZONE
BEGIN:VEVENT
DTSTART;TZID=America/Chicago:20191011T120000
DTEND;TZID=America/Chicago:20191011T190000
DTSTAMP:20260425T113827
CREATED:20190428T213843Z
LAST-MODIFIED:20190820T031947Z
UID:1348-1570795200-1570820400@tylerspillman.org
SUMMARY:Fly High Memorial Golf Tournament
DESCRIPTION:Hello everyone! Registration for the 1st Annual Fly High Memorial Golf Tournament is now OPEN! \nThe tournament will be held at: \nWindrose Golf Club  \nFriday October 11th\, 2019 \nLunch and registration will begin around 11:30 am with a Shotgun start at 1pm \nAll event participants will receive lunch\, raffle tickets and an event day T-shirt\, so please enter the names and shirt sizes for all four members of your team. If you’re interested in playing but do not have a team you can register as an individual and we will pair you with other registered singles.  \nWe will have a Hole-in-One Challenge sponsored by Mercedes Benz of Houston North. We will also have a Long Drive Contest\, Closest to the Pin Contest\, Golf Cannon\, Raffle\, and Auction Items. The Awards Ceremony will be held at the venue before heading to Bareback Bar and Icehouse for an after party. \nWe are still searching for Event Sponsors so please message me for details if interested. \nFor all monetary donations\, auction item donations or hole sponsorships please contact Gina Patino: patinogina@hotmail.com \nFrom the bottom of our hearts\, THANK YOU for your continued presence in our life and our cause.  We are in awe of your generosity and love! To date\, with your support\, we have been able to award over $40\,000 in scholarship packages\, and are looking forward to announcing next year’s winner(s)!  \nWe exist because of you and for you. Together we are making a difference!
URL:https://tylerspillman.org/event/fly-high-memorial-golf-tournament/
LOCATION:Windrose Golf Club\, 6235 Pinelakes Boulevard\, Spring\, TX\, 77379\, United States
ATTACH;FMTTYPE=image/jpeg:https://tylerspillman.org/wp-content/uploads/2019/04/golf_ball_wings_medium_3.jpg
ORGANIZER;CN="Tyler%20Spillman%20Foundation":MAILTO:scholarships@tylerspillman.org
END:VEVENT
BEGIN:VEVENT
DTSTART;TZID=America/Chicago:20210731T120000
DTEND;TZID=America/Chicago:20210731T180000
DTSTAMP:20260425T113827
CREATED:20210330T203547Z
LAST-MODIFIED:20210610T205416Z
UID:1595-1627732800-1627754400@tylerspillman.org
SUMMARY:Fly High Sand Volleyball Tournament
DESCRIPTION:We are excited to announce that we are currently planning our Annual Fundraising Event to help raise money for the 2021 Candidates of the Tyler Spillman Memorial Scholarship Fund.  We are also so incredibly honored to announce that we will be expanding the scope of our Foundation and Cause to include support for Military and Veterans Related Initiatives as well as a brand-new Fly High Community Services Team.  We are beyond blessed by your support and we are looking forward to making this event the most memorable yet since our inception in 2017.  With our Sincerest Gratitude\, we would like to thank you for any consideration in helping us: \nRaising Awareness\, Participation\, Funds and Support for Our Cause and Commitment to Community Growth \nIn February of this year Our Community lost a True American Hero and an Incredible Man\, and we would like to honor him and his family at this time.  Fly High\, US Army Air Corps WWII Veteran William (Bill) Madden Fly. Therefore\, monies raised at this event will be donated to both: \n\n\n\n\n\n\n\n\nFrom the bottom of our hearts THANK YOU for your continued presence in our life and our cause.  We are in awe of your generosity and love! To date and with your support\, we have been able to award nearly 20 scholarship packages to Local High School Students in just our first 3 years! Together we are making a difference!  \nWe are Thankful to call you All A Part of Our Organization and it is my sincere hope and goal for this year’s event that Together\, we can Build a Truly FUN\, SAFE\, COMMUNITY FUNDRAISING EVENT \n 
URL:https://tylerspillman.org/event/fly-high-sand-volleyball-tournament/
LOCATION:District 249\, 23238 State Highway 249\, Tomball\, 77375\, United States
ATTACH;FMTTYPE=image/png:https://tylerspillman.org/wp-content/uploads/2021/03/fly-high-volleyball-optimized.png
ORGANIZER;CN="Fly%20High%20Foundation":MAILTO:tylerspillmanscholarship@gmail.com
END:VEVENT
END:VCALENDAR