BEGIN:VCALENDAR
VERSION:2.0
PRODID:-//TylerSpillman.org - ECPv5.8.1//NONSGML v1.0//EN
CALSCALE:GREGORIAN
METHOD:PUBLISH
X-WR-CALNAME:TylerSpillman.org
X-ORIGINAL-URL:https://tylerspillman.org
X-WR-CALDESC:Events for TylerSpillman.org
BEGIN:VTIMEZONE
TZID:America/Chicago
BEGIN:DAYLIGHT
TZOFFSETFROM:-0600
TZOFFSETTO:-0500
TZNAME:CDT
DTSTART:20190310T080000
END:DAYLIGHT
BEGIN:STANDARD
TZOFFSETFROM:-0500
TZOFFSETTO:-0600
TZNAME:CST
DTSTART:20191103T070000
END:STANDARD
END:VTIMEZONE
BEGIN:VEVENT
DTSTART;TZID=America/Chicago:20190427T140000
DTEND;TZID=America/Chicago:20190427T190000
DTSTAMP:20260425T165907
CREATED:20190329T043320Z
LAST-MODIFIED:20190329T043550Z
UID:1236-1556373600-1556391600@tylerspillman.org
SUMMARY:Klein Rivals Powderpuff Tournament (2019)
DESCRIPTION:Juniors vs Seniors!\nKlein vs. Klein Collins vs. Klein Oak vs. Klein Cain! \nKlein Rivals Powder Puff Football Tournament will be Juniors vs Seniors from Klein High School\, Klein Collins HS\, Klein Oak HS\, and Klein Cain HS\, and will feature a Battle of the Bands\, Boys Cheer Competition\, and Seat Belt Challenge contest.\nThere will be prizes for the winners of each competition.\nProceeds will go to the Kailee Mills Foundation and the Tyler Spillman Foundation.
URL:https://tylerspillman.org/event/powderpufftournament2019/
LOCATION:Klein Oak High School\, 22603 Northcrest Drive\, Spring\, TX\, 77389\, United States
ATTACH;FMTTYPE=image/jpeg:https://tylerspillman.org/wp-content/uploads/2018/05/power_puff_tournament_2018.jpg
END:VEVENT
END:VCALENDAR